BEGIN:VCALENDAR
VERSION:2.0
PRODID:-//hacksw/handcal//NONSGML v1.0//EN
BEGIN:VEVENT
SUMMARY:Coupe feminine
UID:10e28885-924e-493e-9974-f97585eadc75
DTSTART:20260510T120000Z
DTEND:20260510T180000Z
LOCATION:Les Sorinieres Petanque 60 Rue des sports 44840 Les Sorinieres
CATEGORIES:Sportif
STATUS:
DESCRIPTION:<p style="text-align:center;"><span
 style="font-size:20px;"><strong>Les Sorinieres Petanque feminine
 recoit le dimanche 10 mai l'equipe de Saint Pere en
 Retz.</strong></span></p>
 
 <p style="text-align:center;"><span
 style="color:#27ae60;"><span style="font-size:20px;"><strong>JET DU
 BUT 14 H </strong></span></span></p>
 
 <p
 style="text-align:center;"><span
 style="font-size:20px;"><strong>Venez nombreux les encourager
 !!</strong></span></p>
URL;VALUE=URI:https://lessorinierespetanque.sportsregions.fr/evenements/2026/05/10/coupe-feminine-2443613
END:VEVENT
END:VCALENDAR
