BEGIN:VCALENDAR
VERSION:2.0
PRODID:-//hacksw/handcal//NONSGML v1.0//EN
BEGIN:VEVENT
SUMMARY:Championnat doublette Masculin
UID:e8860783-dd9c-48bd-9a39-025c378b619f
DTSTART:20260424T220000Z
DTEND:20260426T220000Z
LOCATION:Localisation  44390 Les Touches
CATEGORIES:Sportif
STATUS:
URL;VALUE=URI:https://lessorinierespetanque.sportsregions.fr/evenements/2026/04/25/championnat-doublette-masculin-2443611
END:VEVENT
END:VCALENDAR
